BEGIN:VCALENDAR
VERSION:2.0
PRODID:-//wp-events-plugin.com//6.4.7.1//EN
TZID:Europe/Paris
X-WR-TIMEZONE:Europe/Paris
BEGIN:VEVENT
UID:232@semaine-nsi.fr
DTSTART;TZID=Europe/Paris:20241204T000000
DTEND;TZID=Europe/Paris:20241204T000000
DTSTAMP:20241115T132631Z
URL:https://www.semaine-nsi.fr/events/conference-metiers-du-numerique/
SUMMARY:Conférence Métiers du numérique
DESCRIPTION:
ATTACH;FMTTYPE=image/jpeg:https://www.semaine-nsi.fr/app/uploads/2024/11/m
 etier-numerique.jpg
CATEGORIES:Conférence, débat
END:VEVENT
BEGIN:VTIMEZONE
TZID:Europe/Paris
X-LIC-LOCATION:Europe/Paris
BEGIN:STANDARD
DTSTART:20241027T020000
TZOFFSETFROM:+0200
TZOFFSETTO:+0100
TZNAME:CET
END:STANDARD
END:VTIMEZONE
END:VCALENDAR