BEGIN:VCALENDAR
VERSION:2.0
PRODID:-//wp-events-plugin.com//6.4.7.1//EN
TZID:Europe/Paris
X-WR-TIMEZONE:Europe/Paris
BEGIN:VEVENT
UID:275@semaine-nsi.fr
DTSTART;TZID=Europe/Paris:20251211T000000
DTEND;TZID=Europe/Paris:20251211T000000
DTSTAMP:20250924T083238Z
URL:https://www.semaine-nsi.fr/events/presentation-des-concours-informatiq
 ues-codemoi-et-c0d1ngup/
SUMMARY:Présentation des concours informatiques Codemoi et c0d1ngUP
DESCRIPTION:
CATEGORIES:Atelier, démonstration,Conférence, débat
END:VEVENT
BEGIN:VTIMEZONE
TZID:Europe/Paris
X-LIC-LOCATION:Europe/Paris
BEGIN:STANDARD
DTSTART:20251026T020000
TZOFFSETFROM:+0200
TZOFFSETTO:+0100
TZNAME:CET
END:STANDARD
END:VTIMEZONE
END:VCALENDAR